BEGIN:VCALENDAR
VERSION:2.0
PRODID:-//AWAD - ECPv6.15.20//NONSGML v1.0//EN
CALSCALE:GREGORIAN
METHOD:PUBLISH
X-WR-CALNAME:AWAD
X-ORIGINAL-URL:https://womenartdealers.org
X-WR-CALDESC:Events for AWAD
REFRESH-INTERVAL;VALUE=DURATION:PT1H
X-Robots-Tag:noindex
X-PUBLISHED-TTL:PT1H
BEGIN:VTIMEZONE
TZID:America/Los_Angeles
BEGIN:DAYLIGHT
TZOFFSETFROM:-0800
TZOFFSETTO:-0700
TZNAME:PDT
DTSTART:20250309T100000
END:DAYLIGHT
BEGIN:STANDARD
TZOFFSETFROM:-0700
TZOFFSETTO:-0800
TZNAME:PST
DTSTART:20251102T090000
END:STANDARD
BEGIN:DAYLIGHT
TZOFFSETFROM:-0800
TZOFFSETTO:-0700
TZNAME:PDT
DTSTART:20260308T100000
END:DAYLIGHT
BEGIN:STANDARD
TZOFFSETFROM:-0700
TZOFFSETTO:-0800
TZNAME:PST
DTSTART:20261101T090000
END:STANDARD
BEGIN:DAYLIGHT
TZOFFSETFROM:-0800
TZOFFSETTO:-0700
TZNAME:PDT
DTSTART:20270314T100000
END:DAYLIGHT
BEGIN:STANDARD
TZOFFSETFROM:-0700
TZOFFSETTO:-0800
TZNAME:PST
DTSTART:20271107T090000
END:STANDARD
END:VTIMEZONE
BEGIN:VEVENT
DTSTART;TZID=America/Los_Angeles:20260416T180000
DTEND;TZID=America/Los_Angeles:20260419T180000
DTSTAMP:20260423T101634
CREATED:20251017T055735Z
LAST-MODIFIED:20251017T055735Z
UID:240399-1776362400-1776621600@womenartdealers.org
SUMMARY:San Francisco Art Fair 2026
DESCRIPTION:The San Francisco Art Fair\, the Bay Area’s longest-running modern and contemporary art fair returns April 16–19\, 2026 (opening night Thursday April 16\, 6-9 pm). Produced by AMP and led by Fair Director Kelly Freeman in partnership with Artistic Director Nato Thompson\, the 2026 San Francisco Art Fair will present 85 leading galleries from the Bay Area and beyond. The fair will also feature a dynamic series of public programming at the Fort Mason Festival Pavilion. Please see the organiser’s website for full details of times and prices. AWAD Members\, Partners and Friends who are interested in attending the fair should contact AWAD’s Membership & Partnership Manager for complimentary VIP tickets.
URL:https://womenartdealers.org/event/san-francisco-art-fair-2026-2/
LOCATION:Fort Mason Festival Pavilion\, 2 Marina Boulevard\, San Francisco\, California\, 94123\, United States
CATEGORIES:Art Fairs
END:VEVENT
END:VCALENDAR