BEGIN:VCALENDAR
VERSION:2.0
PRODID:-//AWAD - ECPv6.15.20//NONSGML v1.0//EN
CALSCALE:GREGORIAN
METHOD:PUBLISH
X-WR-CALNAME:AWAD
X-ORIGINAL-URL:https://womenartdealers.org
X-WR-CALDESC:Events for AWAD
REFRESH-INTERVAL;VALUE=DURATION:PT1H
X-Robots-Tag:noindex
X-PUBLISHED-TTL:PT1H
BEGIN:VTIMEZONE
TZID:Europe/London
BEGIN:DAYLIGHT
TZOFFSETFROM:+0000
TZOFFSETTO:+0100
TZNAME:BST
DTSTART:20220327T010000
END:DAYLIGHT
BEGIN:STANDARD
TZOFFSETFROM:+0100
TZOFFSETTO:+0000
TZNAME:GMT
DTSTART:20221030T010000
END:STANDARD
BEGIN:DAYLIGHT
TZOFFSETFROM:+0000
TZOFFSETTO:+0100
TZNAME:BST
DTSTART:20230326T010000
END:DAYLIGHT
BEGIN:STANDARD
TZOFFSETFROM:+0100
TZOFFSETTO:+0000
TZNAME:GMT
DTSTART:20231029T010000
END:STANDARD
BEGIN:DAYLIGHT
TZOFFSETFROM:+0000
TZOFFSETTO:+0100
TZNAME:BST
DTSTART:20240331T010000
END:DAYLIGHT
BEGIN:STANDARD
TZOFFSETFROM:+0100
TZOFFSETTO:+0000
TZNAME:GMT
DTSTART:20241027T010000
END:STANDARD
END:VTIMEZONE
BEGIN:VEVENT
DTSTART;TZID=Europe/London:20230221T180000
DTEND;TZID=Europe/London:20230221T190000
DTSTAMP:20260423T135918
CREATED:20230620T082455Z
LAST-MODIFIED:20230620T084629Z
UID:239152-1677002400-1677006000@womenartdealers.org
SUMMARY:Do your artists have a legacy plan?
DESCRIPTION:
URL:https://womenartdealers.org/event/239152/
LOCATION:Online
CATEGORIES:Other
ATTACH;FMTTYPE=image/png:https://womenartdealers.org/wp-content/uploads/2023/06/Feb-2023-AID-Insta-Legacy.png
END:VEVENT
BEGIN:VEVENT
DTSTART;TZID=Europe/London:20230214T170000
DTEND;TZID=Europe/London:20230214T180000
DTSTAMP:20260423T135918
CREATED:20230623T083541Z
LAST-MODIFIED:20230623T083541Z
UID:239195-1676394000-1676397600@womenartdealers.org
SUMMARY:AWAD Roundtable Global West/ Asia-Pacific
DESCRIPTION:
URL:https://womenartdealers.org/event/awad-roundtable-global-west-asia-pacific-2/
LOCATION:Online
CATEGORIES:Members Only
ATTACH;FMTTYPE=image/webp:https://womenartdealers.org/wp-content/uploads/2023/06/2.webp
END:VEVENT
BEGIN:VEVENT
DTSTART;TZID=Europe/London:20230207T170000
DTEND;TZID=Europe/London:20230207T180000
DTSTAMP:20260423T135918
CREATED:20230623T083331Z
LAST-MODIFIED:20230623T083615Z
UID:239194-1675789200-1675792800@womenartdealers.org
SUMMARY:AWAD Roundtable UK/ NYTriState
DESCRIPTION:rtbusies
URL:https://womenartdealers.org/event/awad-roundtable-uk-nytristate/
LOCATION:Online
CATEGORIES:Members Only
ATTACH;FMTTYPE=image/webp:https://womenartdealers.org/wp-content/uploads/2023/06/1.png.webp
END:VEVENT
BEGIN:VEVENT
DTSTART;TZID=Europe/London:20230131T170000
DTEND;TZID=Europe/London:20230131T180000
DTSTAMP:20260423T135918
CREATED:20230623T084719Z
LAST-MODIFIED:20230623T084719Z
UID:239200-1675184400-1675188000@womenartdealers.org
SUMMARY:AWAD Connect
DESCRIPTION:
URL:https://womenartdealers.org/event/awad-connect-3/
LOCATION:Online
CATEGORIES:Members Only
ATTACH;FMTTYPE=image/webp:https://womenartdealers.org/wp-content/uploads/2023/06/Last-Tuesday.webp
END:VEVENT
BEGIN:VEVENT
DTSTART;TZID=Europe/London:20230124T180000
DTEND;TZID=Europe/London:20230124T190000
DTSTAMP:20260423T135918
CREATED:20230620T081602Z
LAST-MODIFIED:20230620T084728Z
UID:239147-1674583200-1674586800@womenartdealers.org
SUMMARY:Legacy of Women Art Dealers
DESCRIPTION:
URL:https://womenartdealers.org/event/legacy-of-women-art-dealers/
LOCATION:Online
CATEGORIES:Other
ATTACH;FMTTYPE=image/png:https://womenartdealers.org/wp-content/uploads/2023/06/Jan-2023-WADDA-AID-insta.png
END:VEVENT
BEGIN:VEVENT
DTSTART;TZID=Europe/London:20230118T133000
DTEND;TZID=Europe/London:20230118T160000
DTSTAMP:20260423T135918
CREATED:20230623T080419Z
LAST-MODIFIED:20230623T080419Z
UID:239185-1674048600-1674057600@womenartdealers.org
SUMMARY:London Art Fair Tour
DESCRIPTION:
URL:https://womenartdealers.org/event/london-art-fair-tour/
LOCATION:Business Design Centre\, Islington\, London\, United Kingdom
CATEGORIES:Other
END:VEVENT
BEGIN:VEVENT
DTSTART;TZID=Europe/London:20230117T080000
DTEND;TZID=Europe/London:20230117T170000
DTSTAMP:20260423T135918
CREATED:20230623T084435Z
LAST-MODIFIED:20230623T084435Z
UID:239198-1673942400-1673974800@womenartdealers.org
SUMMARY:AWAD Roundtable Asia-Pacific
DESCRIPTION:
URL:https://womenartdealers.org/event/awad-roundtable-asia-pacific/
LOCATION:Online
CATEGORIES:Members Only
ATTACH;FMTTYPE=image/webp:https://womenartdealers.org/wp-content/uploads/2023/06/2.webp
END:VEVENT
BEGIN:VEVENT
DTSTART;TZID=Europe/London:20230110T170000
DTEND;TZID=Europe/London:20230110T180000
DTSTAMP:20260423T135918
CREATED:20230623T084116Z
LAST-MODIFIED:20230623T084116Z
UID:239197-1673370000-1673373600@womenartdealers.org
SUMMARY:AWAD Roundtable North America / Europe / Africa
DESCRIPTION:
URL:https://womenartdealers.org/event/awad-roundtable-north-america-europe-africa/
LOCATION:Online
CATEGORIES:Members Only
ATTACH;FMTTYPE=image/webp:https://womenartdealers.org/wp-content/uploads/2023/06/1.png.webp
END:VEVENT
END:VCALENDAR